BEGIN:VCALENDAR
VERSION:2.0
PRODID:-//Musikschule H&ouml;xter - ECPv6.15.20//NONSGML v1.0//EN
CALSCALE:GREGORIAN
METHOD:PUBLISH
X-ORIGINAL-URL:https://musikschule-hoexter.de
X-WR-CALDESC:Veranstaltungen für Musikschule H&ouml;xter
REFRESH-INTERVAL;VALUE=DURATION:PT1H
X-Robots-Tag:noindex
X-PUBLISHED-TTL:PT1H
BEGIN:VTIMEZONE
TZID:UTC
BEGIN:STANDARD
TZOFFSETFROM:+0000
TZOFFSETTO:+0000
TZNAME:UTC
DTSTART:20250101T000000
END:STANDARD
END:VTIMEZONE
BEGIN:VEVENT
DTSTART;TZID=UTC:20260509T130000
DTEND;TZID=UTC:20260509T140000
DTSTAMP:20260424T133848
CREATED:20260325T113417Z
LAST-MODIFIED:20260325T175753Z
UID:5335-1778331600-1778335200@musikschule-hoexter.de
SUMMARY:Abschlusspräsentation Improvisationsworkshop
DESCRIPTION:In drei Wochenend-Workshops lernten erwachsene Instrumentalisten der Musikschule die theoretischen und praktischen Grundlagen der Improvisation. Mit viel Spaß und Engagement tauchten sie in die Welt der Klänge\, der neuen ungewohnten Harmonien\, des aufeinander Hörens und des gemeinsamen Gestaltens. Theoretische Hinweise brachten Verständnis für komplexe Zusammenhänge und viele praktische Übungen vertieften die Grundlagen und machten sie erfahrbar. \nDer Kurs wurde durch die finanzielle Unterstützung des Fördervereins der Musikschule ermöglicht. \nZum Abschluss des Workshops präsentieren die Kursteilnehmenden die Ergebnisse dieser spannenden Arbeit.  \nHerzliche Einladung an alle Interessierten. Der Eintritt ist frei.
URL:https://musikschule-hoexter.de/event/abschlusspraesentation-improvisationsworkshop/
LOCATION:Musikschule Höxter\, Aula im Haus der Bildung\, Möllingerstraße 9\, 37671 Höxter\, Germany
ATTACH;FMTTYPE=image/jpeg:https://musikschule-hoexter.de/wp-content/uploads/2026/03/1000097238.jpg
END:VEVENT
BEGIN:VEVENT
DTSTART;TZID=UTC:20260530T110000
DTEND;TZID=UTC:20260530T120000
DTSTAMP:20260424T133848
CREATED:20260308T133631Z
LAST-MODIFIED:20260422T080155Z
UID:5212-1780138800-1780142400@musikschule-hoexter.de
SUMMARY:Musikalische Momente am Mittag: Lehrerkonzert
DESCRIPTION:Die Lehrerinnen und Lehrer der Musikschule präsentieren ein abwechslungsreiches Programm aus verschiedenen Genres und Stilrichtungen. Das Publikum darf sich auf eine spannende Mischung aus klassischen Klängen und modernen Melodien freuen. Solobeiträge wechseln sich mit kammermusikalischen Besetzungen ab und zeigen eine vielfältige musikalische Bandbreite\, die die Vielseitigkeit und das Können des Lehrerteams eindrucksvoll unter Beweis stellt.\nAls Specialguests konnten auch in diesem Jahr die Musiklehrerinnen und -lehrer des König-Wilhelm-Gymnasium gewonnen werden: Sylvia Wiesemeyer-Koke und Ralf Westermann.\nAlle Musikliebhaberinnen und -liebhaber sind herzlich eingeladen\, diesen musikalischen Moment\, die kleine Auszeit vom Alltag mit inspirierender Musik gemeinsam zu genießen. Der Eintritt ist frei\, das Musikschulteam freut sich aber über Spenden\, um die musikalische Nachwuchsarbeit der Musikschule Höxter weiterhin zu fördern.
URL:https://musikschule-hoexter.de/event/musikalische-momente-am-mittag-lehrerkonzert/
LOCATION:Musikschule Höxter\, Aula im Haus der Bildung\, Möllingerstraße 9\, 37671 Höxter\, Germany
CATEGORIES:Konzert
ATTACH;FMTTYPE=image/jpeg:https://musikschule-hoexter.de/wp-content/uploads/2026/03/offenbach-1.jpg
END:VEVENT
BEGIN:VEVENT
DTSTART;TZID=UTC:20260620T110000
DTEND;TZID=UTC:20260620T120000
DTSTAMP:20260424T133848
CREATED:20260325T115600Z
LAST-MODIFIED:20260424T120459Z
UID:5339-1781953200-1781956800@musikschule-hoexter.de
SUMMARY:Abschlusskonzert Young Professionals
DESCRIPTION:Vier Monate lag dürften interessierte Jugendliche hinter die Kulissen der Musikschularbeit blicken.  \nWie funktioniert eine Musikschule?\nWie geht das Unterrichten?\nWie leite ich ein Ensemble oder ein Orchester?\nWie kommuniziere ich\, wie gebe ich Feedback?\nWie bereite ich ein Konzert vor\, wie schreibe ich einen Pressetext? \nDiese und viele andere spannende Themen wurden im Verlauf des Projektes beantwortet. Hospitationen\, Unterrichtsversuche und erste Schritte im Bereich des Veranstaltungsmanagements machten Spaß und Lust auf mehr. \nIn der Abschlusspräsentation zeigen die Jugendlichen in einem kurzen Konzert die Ergebnisse ihrer Arbeit. \nHerzliche Einladung. Der Eintritt ist frei! \nDurch die Förderung des Ministeriums für Kultur und Wissenschaft des Landes Nordrhein-Westfalen und der Bezirksregierung Detmold konnte das Projekt für alle Teilnehmenden kostenfrei angeboten werden. 
URL:https://musikschule-hoexter.de/event/abschlusskonzert-young-professionals/
LOCATION:Musikschule Höxter\, Aula im Haus der Bildung\, Möllingerstraße 9\, 37671 Höxter\, Germany
ATTACH;FMTTYPE=image/jpeg:https://musikschule-hoexter.de/wp-content/uploads/2026/03/20260314_110327.jpg
END:VEVENT
BEGIN:VEVENT
DTSTART;TZID=UTC:20260620T140000
DTEND;TZID=UTC:20260620T160000
DTSTAMP:20260424T133848
CREATED:20260417T102536Z
LAST-MODIFIED:20260417T102830Z
UID:5390-1781964000-1781971200@musikschule-hoexter.de
SUMMARY:Familienpicknick im Schöpfungsgarten
DESCRIPTION:Das Organisationsteam des Schöpfungsgartens lädt zum Familienpicknick ein. Die Schülerinnen und Schüler der Musikschule sorgen mit ihren musikalischen Beiträgen für gute Stimmung. Für eine kleine Abkühlung sorgt der Eiswagen Bruno. \nMitzubringen sind: eigenes Picknick\, gute Laune und sonniges Wetter.  \nBeim schlechten Wetter fällt das Picknick leider aus.  \n \n 
URL:https://musikschule-hoexter.de/event/familienpicknick-im-schoepfungsgarten/
LOCATION:Schöpfungsgarten\, Weserpromenade/Weserscholle\, Höxter\, NRW\, 37671\, Germany
CATEGORIES:Konzert
ATTACH;FMTTYPE=image/jpeg:https://musikschule-hoexter.de/wp-content/uploads/2026/04/kinderchor-1-scaled.jpg
END:VEVENT
END:VCALENDAR